BEGIN:VCALENDAR
VERSION:2.0
PRODID:GIGPRESS 2.0 WORDPRESS PLUGIN
CALSCALE:GREGORIAN
X-WR-TIMEZONE:Etc/GMT
METHOD:PUBLISH
BEGIN:VTIMEZONE
TZID:GMT
BEGIN:STANDARD
DTSTART:20071028T010000
TZOFFSETTO:+0000
TZOFFSETFROM:+0000
END:STANDARD
END:VTIMEZONE
BEGIN:VEVENT
SUMMARY:Andy Timmons Band at Iridium Jazz Club
DESCRIPTION:Notes: The ATB returns to their NYC home in celebration of Les Paul's birthday!! All Ages
LOCATION:Iridium Jazz Club\, New York\, US
UID:20260609T200000Z-193-tm@tommymoore.biz
URL:https://andytimmons.com/shows/
DTSTART;VALUE=DATE-TIME;TZID=GMT:20260609T200000Z
DTEND;VALUE=DATE-TIME;TZID=GMT:20260610T200000Z
DTSTAMP:20260421T061612Z
END:VEVENT
END:VCALENDAR