BEGIN:VCALENDAR
VERSION:2.0
PRODID:GIGPRESS 2.0 WORDPRESS PLUGIN
CALSCALE:GREGORIAN
X-WR-TIMEZONE:Etc/GMT
METHOD:PUBLISH
BEGIN:VTIMEZONE
TZID:GMT
BEGIN:STANDARD
DTSTART:20071028T010000
TZOFFSETTO:+0000
TZOFFSETFROM:+0000
END:STANDARD
END:VTIMEZONE
BEGIN:VEVENT
SUMMARY:Andy Timmons at Fairmont Hotel
DESCRIPTION:Notes: Completely stoked and honored to be invited to take part in the Tommy Emmanuel Austin Guitar Camp August 27-30!! Tommy is a longtime friend and hero and is the epitome of guitar as art at the highest level. We will all learn and share an incredible  once in a lifetime experience that will keep us inspired  for many years to come. I hope you can join us! All Ages
LOCATION:Fairmont Hotel\, Austin\, US
UID:20260827T180000Z-192-tm@tommymoore.biz
URL:https://andytimmons.com/shows/
DTSTART;VALUE=DATE-TIME;TZID=GMT:20260827T180000Z
DTEND;VALUE=DATE-TIME;TZID=GMT:20260830T180000Z
DTSTAMP:20260421T060923Z
END:VEVENT
END:VCALENDAR